View In:
ArcGIS JavaScript
ArcGIS Online Map Viewer
ArcGIS Earth
Service Description: Orthos/Hist_1841_Land_Surrender
Name: Orthos/Hist_1841_Land_Surrender
Description:
Single Fused Map Cache: false
Extent:
XMin: 532888.2114585069
YMin: 4723753.708312413
XMax: 639738.9781559469
YMax: 4803930.873217989
Spatial Reference: 26917
(26917)
LatestVCSWkid(0)
Initial Extent:
XMin: 532888.2114585069
YMin: 4723753.708312413
XMax: 639738.9781559469
YMax: 4803930.873217989
Spatial Reference: 26917
(26917)
LatestVCSWkid(0)
Full Extent:
XMin: 532888.2114585069
YMin: 4723753.708312413
XMax: 639738.9781559469
YMax: 4803930.873217989
Spatial Reference: 26917
(26917)
LatestVCSWkid(0)
Pixel Size X: 7.348745990195328
Pixel Size Y: 9.564256818033643
Band Count: 1
Pixel Type: U8
RasterFunction Infos: {"rasterFunctionInfos": [{
"name": "None",
"description": "",
"help": ""
}]}
Mensuration Capabilities: Basic
Inspection Capabilities:
Has Histograms: true
Has Colormap: false
Has Multi Dimensions : false
Rendering Rule:
Min Scale: 0
Max Scale: 0
Resampling: false
Copyright Text:
Service Data Type: esriImageServiceDataTypeGeneric
Min Values: 0
Max Values: 255
Mean Values: 228.19812662483022
Standard Deviation Values: 73.55719262525324
Object ID Field:
Fields:
None
Default Mosaic Method: Center
Allowed Mosaic Methods:
SortField:
SortValue: null
Mosaic Operator: First
Default Compression Quality: 75
Default Resampling Method: Bilinear
Max Record Count: null
Max Image Height: 4100
Max Image Width: 15000
Max Download Image Count: null
Max Mosaic Image Count: null
Allow Raster Function: true
Allow Copy: true
Allow Analysis: true
Allow Compute TiePoints: false
Supports Statistics: false
Supports Advanced Queries: false
Use StandardizedQueries: true
Raster Type Infos:
Name: Raster Dataset
Description: Supports all ArcGIS Raster Datasets
Help:
Has Raster Attribute Table: false
Edit Fields Info: null
Ownership Based AccessControl For Rasters: null
Child Resources:
Info
Histograms
Statistics
Key Properties
Legend
Raster Function Infos
Supported Operations:
Export Image
Identify
Measure
Compute Histograms
Compute Statistics Histograms
Get Samples
Compute Class Statistics
Query Boundary
Compute Pixel Location
Compute Angles
Validate
Project