View In:
ArcGIS JavaScript
ArcGIS Online Map Viewer
ArcGIS Earth
Service Description: Orthos/GIS_Hist_County_of_Brant_1858
Name: Orthos/Hist_County_of_Brant_1858
Description: Orthos/GIS_Hist_County_of_Brant_1858
Single Fused Map Cache: false
Extent:
XMin: 526910.9915089342
YMin: 4747215.05090182
XMax: 590263.5337570242
YMax: 4801651.824385624
Spatial Reference: 26917
(26917)
LatestVCSWkid(0)
Initial Extent:
XMin: 526910.9915089342
YMin: 4747215.05090182
XMax: 590263.5337570242
YMax: 4801651.824385624
Spatial Reference: 26917
(26917)
LatestVCSWkid(0)
Full Extent:
XMin: 526910.9915089342
YMin: 4747215.05090182
XMax: 590263.5337570242
YMax: 4801651.824385624
Spatial Reference: 26917
(26917)
LatestVCSWkid(0)
Pixel Size X: 6.2348727731611095
Pixel Size Y: 6.758973613583862
Band Count: 3
Pixel Type: U8
RasterFunction Infos: {"rasterFunctionInfos": [{
"name": "None",
"description": "",
"help": ""
}]}
Mensuration Capabilities: Basic
Inspection Capabilities:
Has Histograms: true
Has Colormap: false
Has Multi Dimensions : false
Rendering Rule:
Min Scale: 0
Max Scale: 0
Resampling: false
Copyright Text:
Service Data Type: esriImageServiceDataTypeRGB
Min Values: 0, 0, 0
Max Values: 255, 255, 255
Mean Values: 179.96683049048877, 167.22553056700946, 158.11134614830198
Standard Deviation Values: 56.586179945827595, 56.0586852987925, 54.77518704451565
Object ID Field:
Fields:
None
Default Mosaic Method: Center
Allowed Mosaic Methods:
SortField:
SortValue: null
Mosaic Operator: First
Default Compression Quality: 75
Default Resampling Method: Bilinear
Max Record Count: null
Max Image Height: 4100
Max Image Width: 15000
Max Download Image Count: null
Max Mosaic Image Count: null
Allow Raster Function: true
Allow Copy: true
Allow Analysis: true
Allow Compute TiePoints: false
Supports Statistics: false
Supports Advanced Queries: false
Use StandardizedQueries: true
Raster Type Infos:
Name: Raster Dataset
Description: Supports all ArcGIS Raster Datasets
Help:
Has Raster Attribute Table: false
Edit Fields Info: null
Ownership Based AccessControl For Rasters: null
Child Resources:
Info
Histograms
Statistics
Key Properties
Legend
Raster Function Infos
Supported Operations:
Export Image
Identify
Measure
Compute Histograms
Compute Statistics Histograms
Get Samples
Compute Class Statistics
Query Boundary
Compute Pixel Location
Compute Angles
Validate
Project